BEGIN:VCALENDAR
VERSION:2.0
PRODID:-//ChamberMaster//Event Calendar 2.0//EN
METHOD:PUBLISH
X-PUBLISHED-TTL:P3D
REFRESH-INTERVAL:P3D
CALSCALE:GREGORIAN
BEGIN:VEVENT
DTSTART:20250109T213000Z
DTEND:20250109T233000Z
X-MICROSOFT-CDO-ALLDAYEVENT:FALSE
SUMMARY:BAH- The Vault
DESCRIPTION:Come for the networking\, stay for the prize raffle. Light appetizers & drinks to be served.
X-ALT-DESC;FMTTYPE=text/html:<span style="color: rgb(68\, 68\, 68)\; font-family: Montserrat\, sans-serif\; font-size: 16px\;">Come for the networking\, stay for the prize raffle. Light appetizers &amp\; drinks to be served.</span>
LOCATION:The Vault 301 Second St. Marietta\, Ohio
UID:e.1352.603943
SEQUENCE:3
DTSTAMP:20260421T104302Z
URL:https://business.mariettachamber.com/events/details/bah-the-vault-603943
END:VEVENT

END:VCALENDAR
