BEGIN:VCALENDAR
VERSION:2.0
PRODID:-//ChamberMaster//Event Calendar 2.0//EN
METHOD:PUBLISH
X-PUBLISHED-TTL:P3D
REFRESH-INTERVAL:P3D
CALSCALE:GREGORIAN
BEGIN:VEVENT
DTSTART:20201218T133000Z
DTEND:20201218T143000Z
X-MICROSOFT-CDO-ALLDAYEVENT:FALSE
SUMMARY:Coffee Chat
DESCRIPTION:MACC Coffee Chat\n\nFriday\, December 18\, 2020\n\n8:30-9:30am\n\n\n\nJoin Us For:  \n\n  Meet the MACC Team\n\n  Voice Your Interests\n\n  Share Your Views\n\n  Concerns and News About Your Business
X-ALT-DESC;FMTTYPE=text/html:<span style="font-weight: bold\;">MACC&nbsp\;Coffee Chat</span><br />\n<span style="font-weight: bold\;">Friday\, December 18\, 2020</span><br />\n<span style="font-weight: bold\;">8:30-9:30am</span><br />\n<br />\n<span style="font-weight: bold\;">Join Us For:&nbsp\;</span>&nbsp\;<br />\n<span style="unicode-bidi: embed\; direction: ltr\;"><span style="font-size: 10pt\;"><span style="font-family: symbol\;"><span style="color: black\;">&middot\;</span></span></span></span>&nbsp\;Meet the&nbsp\;MACC&nbsp\;Team<br />\n<span style="unicode-bidi: embed\; direction: ltr\;"><span style="font-size: 10pt\;"><span style="font-family: symbol\;"><span style="color: black\;">&middot\;</span></span></span></span>&nbsp\;Voice Your Interests<br />\n<span style="unicode-bidi: embed\; direction: ltr\;"><span style="font-size: 10pt\;"><span style="font-family: symbol\;"><span style="color: black\;">&middot\;</span></span></span></span>&nbsp\;Share Your Views<br />\n<span style="unicode-bidi: embed\; direction: ltr\;"><span style="font-size: 10pt\;"><span style="font-family: symbol\;"><span style="color: black\;">&middot\;</span></span></span></span>&nbsp\;Concerns and News About Your Business
LOCATION:MACC is inviting you to a scheduled Zoom meeting. Topic: MACC Coffee Chat Time: Dec 18\, 2020 08:30 AM Join Zoom Meeting https://us02web.zoom.us/j/87872637519?pwd=Q3IyYzEyeGdnTDhpSHdKQmx0a3FHZz09 Meeting ID: 878 7263 7519 Passcode: 997890 One tap mobile +13017158592\,\,87872637519#\,\,\,\,\,\,0#\,\,997890# US (Washington D.C) +13126266799\,\,87872637519#\,\,\,\,\,\,0#\,\,997890# US (Chicago) Dial by your location +1 301 715 8592 US (Washington D.C) +1 312 626 6799 US (Chicago) +1 929 205 6099 US (New York) +1 253 215 8782 US (Tacoma) +1 346 248 7799 US (Houston) +1 669 900 6833 US (San Jose) Meeting ID: 878 7263 7519 Passcode: 997890 Find your local number: https://us02web.zoom.us/u/kdtA9F9Mw3
UID:e.1352.603074
SEQUENCE:3
DTSTAMP:20260426T013319Z
URL:https://business.mariettachamber.com/events/details/coffee-chat-12-25-2020-603074
END:VEVENT

END:VCALENDAR
