BEGIN:VCALENDAR
VERSION:2.0
PRODID:-//ChamberMaster//Event Calendar 2.0//EN
METHOD:PUBLISH
X-PUBLISHED-TTL:P3D
REFRESH-INTERVAL:P3D
CALSCALE:GREGORIAN
BEGIN:VEVENT
DTSTART:20211019T200000Z
DTEND:20211019T220000Z
X-MICROSOFT-CDO-ALLDAYEVENT:FALSE
SUMMARY:Legislative Forum
DESCRIPTION:Please join us for our Annual Legislative Forum\, held this year via Zoom.  We have invited all candidates up for election in Washington county to attend and share their message with you\, their constituents!  All candidates in contested races will participate in a question and answer discussion with questions submitted by our members.  If you would like to submit a question\, please do so by emailing info@mariettachamber.com.
X-ALT-DESC;FMTTYPE=text/html:Please join us for our Annual Legislative Forum\, held this year via Zoom.&nbsp\; We have invited all candidates up for election in Washington county to attend and share their message with you\, their constituents!&nbsp\; All candidates in contested races will participate in a question and answer discussion with questions submitted by our members.&nbsp\; If you would like to submit a question\, please do so by emailing info@mariettachamber.com.&nbsp\;
LOCATION:This event will by held via Zoom as a webinar. Make sure to preregister through the following link: https://us02web.zoom.us/webinar/register/WN_-v6nXz-xQTWS5F7DgIU1Wg After registering\, you will receive a confirmation email containing information about joining the webinar.
UID:e.1352.603547
SEQUENCE:3
DTSTAMP:20260421T180713Z
URL:https://business.mariettachamber.com/events/details/legislative-forum-603547
END:VEVENT

END:VCALENDAR
