BEGIN:VCALENDAR
VERSION:2.0
PRODID:-//ChamberMaster//Event Calendar 2.0//EN
METHOD:PUBLISH
X-PUBLISHED-TTL:P3D
REFRESH-INTERVAL:P3D
CALSCALE:GREGORIAN
BEGIN:VEVENT
DTSTART:20190311T210000Z
DTEND:20190312T010000Z
X-MICROSOFT-CDO-ALLDAYEVENT:FALSE
SUMMARY:MACC 104th Annual Meeting Dinner
DESCRIPTION:Marietta Area Chamber of Commerce 104th Annual Meeting Dinner Announces Speaker!\n\n\nJ.B. Bernstein shares insights on how to transform seemingly insurmountable obstacles into tangible opportunities and finding the extraordinary in the ordinary. \n\n J.B. is one of the most respected marketing experts in the world of sports. He is the co-creator of "The Million Dollar Arm" reality show talent search\, which produced the first two Indian men to ever sign pro sports contracts in the U.S. In 2014\, Disney turned his story into a hit film\, starring Jon Hamm as J.B.\n\n As president & CEO of Access Group of Miami and managing director of Seven Figures Management\, he has represented some of the greatest athletes of all time\, and devised several ground-breaking marketing campaigns for his clients.\n\n A believer in loyalty\, integrity and the power of relationships\, J.B. captivates audiences with vital takeaways on business and marketing as well as achieving success in unpredictable circumstances. He inspires others to boldly pursue their dreams and tap into new opportunities for innovation no matter how improbable because the next big idea could be a million-dollar game-changer.\n\n\n\nMonday\, March 11\, 2019 marks the 104th anniversary of the annual meeting dinner of the Marietta Area Chamber of Commerce (MACC). The event will be at the Dyson-Baudo Recreation Center at Marietta College. Social hour begins at 5:00 pm\, dinner seating begins at 6:15 pm with a meal prepared by Parkhurst Catering served at 6:30 pm.  Program begins at 7 pm.\n\n\nFollowing dinner\, the honorees for the Washington County Council of Cooperative Agricultural Award\, the Zonta Elizabeth L. Hadler  Woman of the Year Award\, the Gabe Zide Citizen of the Year Award and the Marietta Area Chamber of Commerce Business Leader of the Year Award will be announced.\n\nTickets are $60 per person and includes admission\, social hour\, a three course meal\, community awards and inspiration! Reservations are required and may be obtained by calling MACC at 740-373-5176.  Reservations may also be made via the chamber's website www.mariettachamber.com.
X-ALT-DESC;FMTTYPE=text/html:<p>Marietta Area Chamber of Commerce 104th&nbsp\;Annual Meeting Dinner Announces Speaker!</p>\n\n<div data-block="true" data-editor="enjh" data-offset-key="c3dia-0-0" style="font-family: Helvetica\, Arial\, sans-serif\; color: rgb(29\, 33\, 41)\; font-size: 14px\; white-space: pre-wrap\;">\n<div class="_1mf _1mj" data-offset-key="c3dia-0-0" style="position: relative\; direction: ltr\; font-family: inherit\;"><span style="language:en-US\;">J.B. Bernstein shares insights on how to transform seemingly insurmountable obstacles into tangible opportunities and finding the extraordinary in the ordinary. </span><br />\n&nbsp\;J.B. is one of the most respected marketing experts in the world of sports. He is the co-creator of &ldquo\;The Million Dollar Arm&rdquo\; reality show talent search\, which produced the first two Indian men to ever sign pro sports contracts in the U.S. In 2014\, Disney turned his story into a hit film\, starring Jon Hamm as J.B.<br />\n&nbsp\;As president &amp\; CEO of Access Group of Miami and managing director of Seven Figures Management\, he has represented some of the greatest athletes of all time\, and devised several ground-breaking marketing campaigns for his clients.<br />\n&nbsp\;A believer in loyalty\, integrity and the power of relationships\, J.B. captivates audiences with vital takeaways on business and marketing as well as achieving success in unpredictable circumstances. He inspires others to boldly pursue their dreams and tap into new opportunities for innovation&mdash\;no matter how improbable&mdash\;because the next big idea could be a million-dollar game-changer.<br />\n<br />\nMonday\, March 11\, 2019&nbsp\;marks the 104th&nbsp\;anniversary of the annual meeting dinner of the Marietta Area Chamber of Commerce (MACC). The event will be at the Dyson-Baudo Recreation Center at Marietta College. Social hour begins at 5:00 pm\, dinner seating begins at 6:15 pm with a meal prepared by Parkhurst Catering served at 6:30 pm.&nbsp\; Program begins at 7 pm.</div>\n</div>\n\n<p>Following dinner\, the honorees for the Washington County Council of Cooperative Agricultural Award\, the Zonta Elizabeth L. Hadler&nbsp\; Woman of the Year Award\, the Gabe Zide Citizen of the Year Award and the Marietta Area Chamber of Commerce Business Leader of the Year Award will be announced.</p>\n\n<p>Tickets are $60 per person and includes admission\, social hour\, a three course meal\, community awards and inspiration! Reservations are required and may be obtained by calling MACC at 740-373-5176.&nbsp\; Reservations may also be made via the chamber&rsquo\;s website <a href="http://www.mariettachamber.com">www.mariettachamber.com</a>.</p>\n
LOCATION:Dyson Baudo Recreation Center - Marietta College Campus Parking available in the lot on 4th & Butler Street and on city streets and the parking lot on 7th and Putnam. Guests may be dropped off near the doors by using the access road entering off Butler in front of the Rec Center- no parking available on this road.
UID:e.1352.603037
SEQUENCE:3
DTSTAMP:20260420T071440Z
URL:https://business.mariettachamber.com/events/details/macc-104th-annual-meeting-dinner-603037
END:VEVENT

END:VCALENDAR
