BEGIN:VCALENDAR
VERSION:2.0
PRODID:-//ChamberMaster//Event Calendar 2.0//EN
METHOD:PUBLISH
X-PUBLISHED-TTL:P3D
REFRESH-INTERVAL:P3D
CALSCALE:GREGORIAN
BEGIN:VEVENT
DTSTART:20240304T213000Z
DTEND:20240305T020000Z
X-MICROSOFT-CDO-ALLDAYEVENT:FALSE
SUMMARY:MACC 109th Annual Dinner
DESCRIPTION:Monday\, March 4\, 2024 marks the 109th Annual Dinner of the Marietta Area Chamber of Commerce (MACC). The event will be hosted at the Dyson-Baudo Recreation Center at Marietta College.  Doors open at 4:30 pm\, dinner seating begins at 6:00 pm with a meal prepared by Parkhurst Catering.  \n\n\n\n\nFollowing dinner\, the honorees for the Washington County Council of Cooperative Agricultural Award\, the Gabe Zide Citizen of the Year Award and the Marietta Area Chamber of Commerce Business Leader of the Year Award will be announced.\n\n\n\nTickets are $65 per person for Chamber members and $75 for non-members.  This price includes admission\, social hour\, a three course meal\, community awards and inspiration!\n\n\n\nReservations are required and may be obtained by calling MACC at 740-373-5176 or via email at info@mariettachamber.com.
X-ALT-DESC;FMTTYPE=text/html:<div>\n<div>\n<div>\n<div>\n<div>Monday\, March 4\, 2024&nbsp\;marks the 109th Annual Dinner of the Marietta Area Chamber of Commerce (MACC). The event will be hosted at&nbsp\;the Dyson-Baudo Recreation Center at Marietta College.&nbsp\;&nbsp\;Doors open at 4:30 pm\, dinner seating begins at 6:00&nbsp\;pm with a meal prepared by Parkhurst Catering.&nbsp\;&nbsp\;</div>\n</div>\n</div>\n<br />\nFollowing dinner\, the honorees for the Washington County Council of Cooperative Agricultural Award\, the Gabe Zide Citizen of the Year Award and the Marietta Area Chamber of Commerce Business Leader of the Year Award will be announced.<br />\n<br />\nTickets are $65&nbsp\;per person for Chamber members and $75&nbsp\;for non-members.&nbsp\; This price&nbsp\;includes admission\, social hour\, a three course meal\, community awards and inspiration!<br />\n<br />\nReservations are required and may be obtained by calling MACC at 740-373-5176 or&nbsp\;via email at&nbsp\;<a href="mailto:info@mariettachamber.com" style="color: rgb(7\, 130\, 193)\;">info@mariettachamber.com</a>.</div>\n</div>\n\n<p>&nbsp\;</p>\n
LOCATION:Dyson Baudo Recreation Center - Marietta College Campus Parking available in the lot on 4th & Butler Street and on city streets and the parking lot on 7th and Putnam. Guests may be dropped off near the doors by using the access road entering off Butler in front of the Rec Center- no parking available on this road.
UID:e.1352.603877
SEQUENCE:3
DTSTAMP:20260423T111721Z
URL:https://business.mariettachamber.com/events/details/macc-109th-annual-dinner-603877
END:VEVENT

END:VCALENDAR
