BEGIN:VCALENDAR
VERSION:2.0
PRODID:-//ChamberMaster//Event Calendar 2.0//EN
METHOD:PUBLISH
X-PUBLISHED-TTL:P3D
REFRESH-INTERVAL:P3D
CALSCALE:GREGORIAN
BEGIN:VEVENT
DTSTART:20260605T190000Z
DTEND:20260605T193000Z
X-MICROSOFT-CDO-ALLDAYEVENT:FALSE
SUMMARY:Ribbon Cutting- MOV Gutters
DESCRIPTION:Join us for a ribbon cutting to celebrate the relocation of MOV Gutters & Construction!
X-ALT-DESC;FMTTYPE=text/html:<span style="font-size:16px\;">Join us for a ribbon cutting to celebrate the relocation of MOV Gutters &amp\; Construction!&nbsp\;</span>
LOCATION:MOV Gutters & Construction 315 Margaret St. Marietta\, Ohio 45750
UID:e.1352.604108
SEQUENCE:3
DTSTAMP:20260424T210213Z
URL:https://business.mariettachamber.com/events/details/ribbon-cutting-mov-gutters-604108
END:VEVENT

END:VCALENDAR
